Workbook

Sheet Sheet1
A1: 附件：
A2: 南昌县2025年度巩固拓展脱贫攻坚成果和乡村振兴项目计划完成情况汇总表
M3: 截止时间：2025年12月19日
A4: 序号 | B4: 单位 | C4: 项目类别 | D4: 项目名称 | E4: 项 目 内 容 | F4: 安排财政资金（万元） | G4: 资金实际支出含质保金（万元） | H4: 资金结余（万元） | I4: 资金来源 | J4: 资金级次 | K4: 下达文件 | L4: 下达文件时间 | M4: 项目建设完成情况 | N4: 绩效目标 | O4: 联农带农机制 | P4: 备注
A5: 1 | B5: 武阳镇楞上村 | C5: 乡村建设类 | D5: 武阳镇楞上村东岗山变压器改造工程 | E5: 安装变压器（250kva）一套及电线杆附属设施设备等。 | F5: 26 | G5: 25.46 | H5: =F5-G5 -> 0.54 | I5: 洪财农指〔2024〕90号 | J5: 省级 | K5: 南财农〔2025〕15号 | L5: 2.8 | M5: 已完成 | N5: =VLOOKUP(D5,Sheet2!F:O,10,FALSE) -> 通过在“十四五”省定乡村振兴重点帮扶村楞上村东岗山安装变压器一套，含电线杆等附属设施设备等，解决农户排涝灌溉用电需求，确保农户用电安全。预期设备使用年限能达到10年，受益人口1600余人，其中脱贫户和监测对象62人。项目工程完成及时率能达到100%，项目建成后验收合格率能达到100%，脱贫户满意度能达到95%以上。 | O5: =VLOOKUP(D5,Sheet2!F:Q,12,FALSE) -> 预期受益人口1600余人，其中脱贫户和监测对象62人。解决农户排涝灌溉用电需求，确保农户用电安全。村民满意度能达到95%以上。
A6: 2 | B6: 幽兰镇园艺场 | C6: 乡村建设类 | D6: 幽兰镇园艺场抗旱抽水线路新装工程 | E6: 邓家、南湖、朱家、熊家、陶赵、北涂、南涂、黄家等8村组果树抗旱抽水改造 | F6: 65 | G6: 60.7782 | H6: =F6-G6 -> 4.2218 | I6: 洪财农指〔2024〕107号55万元、洪财农指〔2024〕129号10万元 | J6: 中央55万元、市级10万元 | K6: 南财农〔2025〕15号 | L6: 2.8 | M6: 已完成 | N6: =VLOOKUP(D6,Sheet2!F:O,10,FALSE) -> 通过在“十三五”省级脱贫村园艺场邓家、南湖、朱家、熊家、陶赵、北涂、南涂、黄家等8村组共计10公里果树抗旱抽水改造。项目工程完成及时率能达到100%，项目建成后验收合格率能达100%，预期益面积1907亩、受益人口1576人，村民满意度能达到95%以上。 | O6: =VLOOKUP(D6,Sheet2!F:Q,12,FALSE) -> 改善园艺场基础设施条件，确保农户生产安全，受益脱贫户24户、监测户2户，受益面积1907亩，受益人口1576人。
A7: 3 | B7: 塘南镇田万村 | C7: 乡村建设类 | D7: 田万村四组道路硬化工程 | E7: 田万村四组道路硬化长约629米等 | F7: 91 | G7: 90.2534 | H7: =F7-G7 -> 0.7466 | I7: 洪财农指〔2024〕90号 | J7: 省级 | K7: 南财农〔2025〕15号 | L7: 2.8 | M7: 已完成 | N7: =VLOOKUP(D7,Sheet2!F:O,10,FALSE) -> 通过在“十四五”省定重点帮扶村田万村田万村四组道路硬化长约629米等；项目工程完成及时率能达到100%，项目建成后验收合格率能达到100%，道路设计使用年限能达到10年，预期能带动脱贫人口大于等于26人，受益脱贫人口满意度能达到95%以上。 | O7: =VLOOKUP(D7,Sheet2!F:Q,12,FALSE) -> 改善四组村民生产生活条件，方便田万村四组村民出行。提高生活条件，改善农村的整体状况，促进农村经济发展和生活需要，预期直接受益人口约320人，预期能带动脱贫人口大于等于26人。
A8: 4 | B8: 塘南镇富盛村 | C8: 乡村建设类 | D8: 富盛村谢家上老水沟护坡工程 | E8: 富盛村谢家上老水沟硬化长约1232米等 | F8: 82 | G8: 80.0253 | H8: =F8-G8 -> 1.9747 | I8: 洪财农指〔2024〕90号 | J8: 省级 | K8: 南财农〔2025〕15号 | L8: 2.8 | M8: 已完成 | N8: 通过在“十四五”省定重点帮扶村富盛村新建硬化盘龙港至犁园港水沟长约1232米等，项目工程完成及时率能达到100%，项目建成后验收合格率能达到100%，道路设计使用年限能达到10年，预期能带动脱贫人口大于等于25人，受益脱贫人口满意度能达到95%以上。 | O8: 改善农户日常生产生活条件、农田水利条件和脱贫人口生产生活条件，预期受益人口富盛村村民约760人，脱贫人口25人。
A9: 5 | B9: 塘南镇石岗村 | C9: 乡村建设类 | D9: 石岗村石梁王家桥至焦头河排管站道路硬化 | E9: 石岗村道路硬化长约400米等 | F9: 48 | G9: 48 | H9: =F9-G9 -> 0 | I9: 洪财农指〔2024〕107号38万元、洪财农指〔2024〕129号10万元 | J9: 中央38万元、市级10万元 | K9: 南财农〔2025〕15号 | L9: 2.8 | M9: 已完成 | N9: =VLOOKUP(D9,Sheet2!F:O,10,FALSE) -> 通过在“十三五”省定脱贫村石岗村新建硬化道路长约400米等，项目工程完成及时率能达到100%，项目建成后验收合格率能达到100%，道路设计使用年限能达到10年，预期能带动脱贫人口大于等于34人，脱贫户满意度能达到95%以上。 | O9: =VLOOKUP(D9,Sheet2!F:Q,12,FALSE) -> 改善脱贫户生产生活条件，方便石岗村三组村民出行。完善农村道路网建设，改善农村道路状况，促进农村经济发展和方便村民日常出行，预期直接受益人口约550人，预期能带动脱贫人口大于等于34人。
A10: 6 | B10: 塘南镇新光村 | C10: 乡村建设类 | D10: 新光村中心沟护坡工程 | E10: 新光村新建中心沟渠约1203米等 | F10: 89 | G10: 89 | H10: =F10-G10 -> 0 | I10: 洪财农指〔2025〕1号10万元，县级专项79万元 | J10: 市级10万元、县级79万元 | K10: 南财农〔2025〕15号 | L10: 2.8 | M10: 已完成 | N10: 通过在新光村一组新建中心沟渠约1203米等，项目工程完成及时率能达到100%，项目建成后验收合格率能达到100%，预期受益建档立卡脱贫人口数45人，受益脱贫人口满意度能达到95%以上。 | O10: 改善脱贫户生产生活条件，方便新光村一组农业生产。完善农村农业生产，预期直接受益人口约320人，预期能带动脱贫人口大于等于45人。
A11: 7 | B11: 银三角棠左村 | C11: 乡村建设类 | D11: 棠左村壮大村集体经济厂房附属项目 | E11: 新建沟渠长约300米，高1-1.2米，宽1-1.5米等 | F11: 30 | G11: 30 | H11: =F11-G11 -> 0 | I11: 县级专项 | J11: 县级 | K11: 南财农〔2025〕15号 | L11: 2.8 | M11: 已完成 | N11: =VLOOKUP(D11,Sheet2!F:O,10,FALSE) -> 主要提高帮扶产业生产效益，改善脱贫人口生产生活条件，助推村集体经济收入，促进当地农民增产增收，拟新建沟渠长约300米，高1-1.2米，宽1-1.5米等，项目工程完成及时率能达到100%，项目建成后验收合格率能达到100%，设施设计使用年限能达到10年，预期受益人口680人，脱贫人口16人，脱贫人口满意度能达到95%以上。 | O11: =VLOOKUP(D11,Sheet2!F:Q,12,FALSE) -> 带动生产:降低帮扶产业基地生产运输成本，降低村民农业生产运输成本，提高村集体经济收入，促进农民增产增收，预期直接受益面积500亩，预期直接受益人口680人，预期带动脱贫人口16人。
A12: 8 | B12: 冈上镇蚕石村 | C12: 乡村建设类 | D12: 蚕石村早田组机耕道硬化项目 | E12: 道路硬化长约2000米、涵管及设施等 | F12: 125 | G12: 125 | H12: =F12-G12 -> 0 | I12: 洪财农指〔2024〕90号 | J12: 省级 | K12: 南财农〔2025〕15号 | L12: 2.8 | M12: 已完成 | N12: =VLOOKUP(D12,Sheet2!F:O,10,FALSE) -> 通过在“十四五”省定乡村振兴重点帮扶村蚕石村，新建道路硬化长约2000米、涵管及设施等，项目工程完成及时率能达到100%，项目建成后验收合格率能达到100%，道路设计使用年限能达到10年，预期能带动脱贫人口大于或等于16人，脱贫户满意度能达到95%以上。 | O12: =VLOOKUP(D12,Sheet2!F:Q,12,FALSE) -> 降低农民农作物运输成本，促进农民增产增收，预期直接受益面积2000亩，受益人口800人。
A13: 9 | B13: 三江镇岗坊村 | C13: 乡村建设类 | D13: 三江镇岗坊村岭西大桥至岗前桥头路灯亮化工程 | E13: 在岗坊村岭西大桥至岗前桥头公路共3公里新增路灯约150盏等 | F13: 21 | G13: 21 | H13: =F13-G13 -> 0 | I13: 洪财农指〔2024〕90号 | J13: 省级 | K13: 南财农〔2025〕15号 | L13: 2.8 | M13: 已完成 | N13: =VLOOKUP(D13,Sheet2!F:O,10,FALSE) -> 通过在“十四五”省级重点村岗坊村岭西大桥至岗前桥头公路新增路灯约150盏，项目工程完成及时率能达到100%，项目建成后验收合格率能达到100%，项目设计使用年限能达到10年，预期受益脱贫人口23人，脱贫户满意度能达到95%。 | O13: =VLOOKUP(D13,Sheet2!F:Q,12,FALSE) -> 改善村居环境，改善脱贫户生产生活条件，预期受益脱贫人口23人。
A14: 10 | B14: 三江镇岗坊村 | C14: 乡村建设类 | D14: 三江镇岗坊村灵堂至岭西大桥旁的山脚下排水沟工程 | E14: 岗坊村灵堂至昌吉赣铁路脚下新建排水沟约120m，昌吉赣铁路脚下至岭西大桥旁的山脚下新建排水沟约315m，共计新建排水沟约435m等 | F14: 76 | G14: 76 | H14: =F14-G14 -> 0 | I14: 洪财农指〔2024〕90号 | J14: 省级 | K14: 南财农〔2025〕15号 | L14: 2.8 | M14: 已完成 | N14: =VLOOKUP(D14,Sheet2!F:O,10,FALSE) -> 通过在“十四五”省级重点村岗坊村三江镇岗坊村灵堂至岭西大桥旁山脚建设排水沟约435m，项目工程完成及时率能达到100%，项目建成后验收合格率能达到100%，项目设计使用年限能达到10年，预期受益脱贫人口15人，脱贫户满意度能达到95%。 | O14: =VLOOKUP(D14,Sheet2!F:Q,12,FALSE) -> 改善农村灌溉用水状况，改善脱贫户生产生活条件，预期受益脱贫人口15人。
A15: 11 | B15: 黄马乡罗渡村 | C15: 乡村建设类 | D15: 罗渡村北岸排水沟渠护坡工程 | E15: 罗渡村航道东至沥一组间长约480米，高约2.3米的水渠护坡等 | F15: 81 | G15: 81 | H15: =F15-G15 -> 0 | I15: 洪财农指〔2024〕107号71万元、洪财农指〔2024〕129号10万元 | J15: 中央71万元、市级10万元 | K15: 南财农〔2025〕15号 | L15: 2.8 | M15: 已完成 | N15: =VLOOKUP(D15,Sheet2!F:O,10,FALSE) -> 通过对阻碍农田灌溉和排涝的问题进行整治改造提升，在“十三五”省定脱贫村罗渡村航道东至沥一组间长约480米，高2.3米水渠修建护坡，完善农田水利基础设施，保障农业灌溉用水和排涝、改善农业生产条件。项目验收合格率100%，项目完成及时率达100%，受益建档立卡脱贫人口18户52人，脱贫人口满意度达95%。 | O15: =VLOOKUP(D15,Sheet2!F:Q,12,FALSE) -> 项目建成后解决农田灌溉和排涝“最后一公里”问题，完善农田水利基础设施，保障农业灌溉用水和排涝、改善农业生产条件，促进农民保产增收。预期直接受益面积约2143亩，受益人口约2410人，其中脱贫人口52人。
A16: 12 | B16: 黄马乡冯家村 | C16: 乡村建设类 | D16: 冯家村沟渠衬砌工程 | E16: 冯家村徐园组沟渠衬砌长628m等 | F16: 90 | G16: 90 | H16: =F16-G16 -> 0 | I16: 洪财农指〔2024〕90号 | J16: 省级 | K16: 南财农〔2025〕15号 | L16: 2.8 | M16: 已完成 | N16: =VLOOKUP(D16,Sheet2!F:O,10,FALSE) -> 通过在“十四五”省定乡村振兴重点帮扶村冯家村徐园组抽水沟渠衬砌长628m，改善村民生产条件。项目验收合格率达100%，项目完成及时率达100%,受益建档立卡脱贫人口10户25人，脱贫人口满意度达95%。 | O16: =VLOOKUP(D16,Sheet2!F:Q,12,FALSE) -> 项目建成后改善农村生产生活状况，提升农户以及脱贫户的生产条件，促进农民保产增收。预期受益建档立卡脱贫人口10户25人.预期直接收益面积约1168亩，受益人口约810人，其中脱贫人口25人.
A17: 13 | B17: 广福镇广福村 | C17: 乡村建设类 | D17: 广福镇广福村溪山组机耕路硬化工程 | E17: 新建道路硬化长约1140米，宽约3米等。 | F17: 82 | G17: 82 | H17: =F17-G17 -> 0 | I17: 洪财农指〔2025〕1号 | J17: 市级 | K17: 南财农〔2025〕15号 | L17: 2.8 | M17: 已完成 | N17: =VLOOKUP(D17,Sheet2!F:O,10,FALSE) -> 通过在“十四五”县定乡村振兴重点帮扶村广福村新建道路硬化长约1140米，宽约3米；项目工程完成及时率能达到100%，项目建成后验收合格率能达到100%，道路设计使用年限能达到10年，预期受益脱贫人口大于或等于18人，脱贫人口满意度能达到95%以上。 | O17: =VLOOKUP(D17,Sheet2!F:Q,12,FALSE) -> 改善“十四五”县定乡村振兴重点帮扶村广福村道路基础设施条件，完善路网建设，降低农户出行及运输成本，促进农村增产增收，受益人口约220人，其中脱贫人口18人，不断提升农村幸福生活满意度。
A18: 14 | B18: 广福镇木山村 | C18: 乡村建设类 | D18: 广福镇木山村浬湖组至北头村道路硬化工程 | E18: 新建道路硬化长约500米，宽约5米等。 | F18: 60 | G18: 60 | H18: =F18-G18 -> 0 | I18: 洪财农指〔2024〕90号 | J18: 省级 | K18: 南财农〔2025〕15号 | L18: 2.8 | M18: 已完成 | N18: =VLOOKUP(D18,Sheet2!F:O,10,FALSE) -> 通过在“十四五”省定乡村振兴重点帮扶村木山村，新建道路硬化长约500米，宽约5米；项目工程完成及时率能达到100%，项目建成后验收合格率能达到100%，道路设计使用年限能达到10年，预期受益脱贫人口及监测对象45人，脱贫户满意度能达到95%以上。 | O18: =VLOOKUP(D18,Sheet2!F:Q,12,FALSE) -> 主要改善“十四五”省定重点帮扶村木山村生产生活条件，降低农民农作物运输成本，促进农民增产增收，预期直接受益面积500亩，受益人口约900人，不断提升农村幸福生活满意度。
A19: 15 | B19: 南新乡周坊村 | C19: 乡村建设类 | D19: 南新乡周坊村周坊小学渠道桥至南新中学边道路硬化工程项目 | E19: 改建硬化周坊村小学渠道桥至南新中学边道路，长约1300米，宽约3.5米，厚约0.2米等。 | F19: 136 | G19: 125.0086 | H19: =F19-G19 -> 10.9914 | I19: 洪财农指〔2024〕90号 | J19: 省级 | K19: 南财农〔2025〕15号 | L19: 2.8 | M19: 已完成 | N19: =VLOOKUP(D19,Sheet2!F:O,10,FALSE) -> 在“十四五”省定乡村振兴重点帮扶村周坊村建设道路长约1300米，宽约3.5米，厚约0.2米改善周坊村道路基础设施，项目工程完成及时率能达到100%，建设后验收合格率能达到100%，道路设计使用年限能达10年，受益脱贫户3户5人，监测对象1户2人，预期直接受益人口2080人，预期受益面积1720亩，脱贫人口满意度能达95%以上。 | O19: =VLOOKUP(D19,Sheet2!F:Q,12,FALSE) -> 改善“十四五”省定乡村振兴重点帮扶村周坊村道路基础设施条件，完善路网建设，降低农户出行及运输成本，促进农村增产增收，受益脱贫户3户5人，监测对象1户2人，受益人口2080人，受益面积1720亩，不断提升农村幸福生活满意度。
A20: 16 | B20: 南新乡九联村 | C20: 乡村建设类 | D20: 南新乡九联村道路亮化工程项目 | E20: 堤顶公路至村委会门口道路安装路灯约55盏等，中心公路至千秋堂道路安装路灯约14盏等。 | F20: 9.66 | G20: 9.66 | H20: =F20-G20 -> 0 | I20: 洪财农指〔2024〕129号 | J20: 市级 | K20: 南财农〔2025〕15号 | L20: 2.8 | M20: 已完成 | N20: =VLOOKUP(D20,Sheet2!F:O,10,FALSE) -> 在“十三五”省定贫困村九联村安装路灯约69盏，改善九联村道路基础设施，项目工程完成及时率能达到100%，建设后验收合格率能达到100%，道路设计使用年限能达10年，预期直接受益人口约850人，受益脱贫户1户2人，脱贫人口满意度能达95%以上。 | O20: =VLOOKUP(D20,Sheet2!F:Q,12,FALSE) -> 改善“十三五”省定贫困村九联村道路基础设施条件，完善路网建设，降低农户出行及运输成本，促进农村增产增收，受益脱贫人口2人，直接受益人口约800人，不断提升农村幸福生活满意度。
A21: 17 | B21: 南新乡团结村 | C21: 乡村建设类 | D21: 南新乡团结公路至团结小学道路硬化工程项目 | E21: 改建硬化道路长约160米，宽约3.5米，厚约0.2米的道路等。 | F21: 20 | G21: 20 | H21: =F21-G21 -> 0 | I21: 洪财农指〔2024〕107号10万元、洪财农指〔2024〕129号10万元 | J21: 中央10万元、市级10万元 | K21: 南财农〔2025〕15号 | L21: 2.8 | M21: 已完成 | N21: =VLOOKUP(D21,Sheet2!F:O,10,FALSE) -> 在“十三五”省定贫困村团结村道路硬化长约160米，宽约3.5米，厚约0.2米；项目工程完成及时率能达到100%，项目建成后验收合格率能达到100%，道路设计使用年限能达到10年，预期能带动脱贫人口20人，脱贫户满意度能达到95%以上。 | O21: =VLOOKUP(D21,Sheet2!F:Q,12,FALSE) -> 改善“十三五”省定贫困村团结村道路基础设施条件，完善路网建设，降低农户出行及运输成本，促进农村增产增收，受益脱贫人口20人，直接受益人口约300人，不断提升农村幸福生活满意度。
A22: 18 | B22: 南新乡中徐村 | C22: 乡村建设类 | D22: 南新乡中徐村一组至四组道路硬化工程项目 | E22: 改建硬化村一组至村四组道路，全长约900米，宽约4米，厚约0.2米等。 | F22: 115 | G22: 115 | H22: =F22-G22 -> 0 | I22: 洪财农指〔2024〕90号 | J22: 省级 | K22: 南财农〔2025〕15号 | L22: 2.8 | M22: 已完成 | N22: =VLOOKUP(D22,Sheet2!F:O,10,FALSE) -> 在“十四五”省定乡村振兴重点帮扶村中徐村建设道路长约900米，宽约4米，厚约0.2米。项目工程完成及时率能达到100%，建设后验收合格率能达到100%，道路设计使用年限能达10年，预期受益脱贫户监测对象10户21人，监测对象1户2人，脱贫人口满意度能达95%以上。 | O22: =VLOOKUP(D22,Sheet2!F:Q,12,FALSE) -> 改善“十四五”省定乡村振兴重点帮扶村中徐村道路基础设施条件，完善路网建设，降低农户出行及运输成本，促进农村增产增收，受益脱贫人口21人，直接受益人口约3400人，不断提升农村幸福生活满意度。
A23: 19 | B23: 向塘镇璜溪村 | C23: 乡村建设类 | D23: 向塘镇璜溪村王家桥至合气桥二干渠道路硬化项目 | E23: 道路硬化长约1290米等 | F23: 80 | G23: 80 | H23: =F23-G23 -> 0 | I23: 洪财农指〔2024〕107号70万元、洪财农指〔2024〕129号10万元 | J23: 中央70万元、市级10万元 | K23: 南财农〔2025〕15号 | L23: 2.8 | M23: 已完成 | N23: =VLOOKUP(D23,Sheet2!F:O,10,FALSE) -> 通过在“十三五”脱贫村璜溪村王家村小组至合气桥二干渠道路硬化1290米等，项目工程完成及时率能达到100%，项目建成后验收合格率能达到100%，设计使用年限能达到10年，预期能带动脱贫人口大于等于26人，脱贫户满意度能达到95%以上。 | O23: =VLOOKUP(D23,Sheet2!F:Q,12,FALSE) -> 改善村居环境和脱贫人口生产生活条件，方便村民出行。预期受益面积1500余亩，受益人口1800余人。
A24: 20 | B24: 塔城乡湖陂村 | C24: 乡村建设类 | D24: 2025年彭家基础设施项目 | E24: 池塘护坡改造、机耕道硬化及沟渠建设等 | F24: 94 | G24: 94 | H24: =F24-G24 -> 0 | I24: 洪财农指〔2024〕107号84万元、洪财农指〔2024〕129号10万元 | J24: 中央84万元、市级10万元 | K24: 南财农〔2025〕15号 | L24: 2.8 | M24: 已完成 | N24: 通过在省“十三五”脱贫村湖陂村池塘护坡改造、机耕道硬化及沟渠建设等，项目工程完成及时率能达到100%，项目建成后验收合格率能达到100%，设计使用年限能达到20年，预期能带动脱贫人口大于等于50人，脱贫户满意度能达到95%以上。 | O24: 改善农户日常生产生活条件、村居环境、农田使用状况和脱贫人口生产生活条件，为原先荒废农田提供便利耕种条件，预期受益人口湖陂村村民约1000人，脱贫人口17人。
A25: 21 | B25: 塔城乡塔城村 | C25: 乡村建设类 | D25: 2025年塔城乡塔城村沟渠改造项目 | E25: 沟渠改造修建护坡长约700米等 | F25: 94 | G25: 94 | H25: =F25-G25 -> 0 | I25: 洪财农指〔2024〕90号 | J25: 省级 | K25: 南财农〔2025〕15号 | L25: 2.8 | M25: 已完成 | N25: =VLOOKUP(D25,Sheet2!F:O,10,FALSE) -> 通过在“十四五”省级重点帮扶村塔城村沟渠改造修建护坡长约700米，项目工程完成及时率能达到100%，项目建成后验收合格率能达到100%，道路设计使用年限能达到20年，预期能带动脱贫人口大于等于49人，脱贫户满意度能达到95%以上。 | O25: =VLOOKUP(D25,Sheet2!F:Q,12,FALSE) -> 改善农户日常生产生活条件、村居环境、农田使用状况和脱贫人口生产生活条件，为原先荒废农田提供便利耕种条件，预期受益人口塔城村村民约1000人，脱贫人口50人。
A26: 22 | B26: 塔城乡塔城村 | C26: 乡村建设类 | D26: 2025年塔城村村庄亮灯工程 | E26: 采购路灯一批约150盏等 | F26: 21 | G26: 21 | H26: =F26-G26 -> 0 | I26: 洪财农指〔2024〕90号 | J26: 省级 | K26: 南财农〔2025〕15号 | L26: 2.8 | M26: 已完成 | N26: =VLOOKUP(D26,Sheet2!F:O,10,FALSE) -> 通过在“十四五”省级重点帮扶村塔城村沟渠采购路灯一批，项目工程完成及时率能达到100%，项目建成后验收合格率能达到100%，道路设计使用年限能达到10年，预期直接受益人口约2000人以上，脱贫户满意度能达到95%以上。 | O26: =VLOOKUP(D26,Sheet2!F:Q,12,FALSE) -> 改善出行照明状况，方便村民出行和促进农村经济发盏。预期受益人口塔城村村民约2000人，脱贫人口50人以上。
A27: 23 | B27: 塔城乡青岚村 | C27: 乡村建设类 | D27: 2025年青岚村村庄亮灯工程 | E27: 采购路灯一批约150盏等 | F27: 21 | G27: 21 | H27: =F27-G27 -> 0 | I27: 洪财农指〔2025〕1号17.5万元，县级3.5万元 | J27: 市级17.5万元、县级3.5万元 | K27: 南财农〔2025〕15号 | L27: 2.8 | M27: 已完成 | N27: =VLOOKUP(D27,Sheet2!F:O,10,FALSE) -> 通过在“十四五”省级重点帮扶村塔城村沟渠采购路灯一批，项目工程完成及时率能达到100%，项目建成后验收合格率能达到100%，道路设计使用年限能达到10年，预期直接受益人口约2000人以上，脱贫户满意度能达到965%以上。 | O27: =VLOOKUP(D27,Sheet2!F:Q,12,FALSE) -> 改善出行照明状况，方便村民出行和促进农村经济发盏。预期受益人口塔城村村民约2000人，脱贫人口90人以上。
A28: 24 | B28: 泾口乡东岗村 | C28: 乡村建设类 | D28: 泾口乡东岗村联新公路路灯安装工程 | E28: 安装太阳能路灯400盏等 | F28: 56 | G28: 56 | H28: =F28-G28 -> 0 | I28: 洪财农指〔2024〕107号46万元、洪财农指〔2024〕129号10万元 | J28: 中央46万元、市级10万元 | K28: 南财农〔2025〕15号 | L28: 2.8 | M28: 已完成 | N28: =VLOOKUP(D28,Sheet2!F:O,10,FALSE) -> 通过在“十三五”省定脱贫村东岗村安装太阳能路灯400盏。项目工程完成及时率能达到100%，项目建成后验收合格率能达到100%，道路设计使用年限能达到10年，预期能带动脱贫人口大于等于43人，脱贫户满意度能达到95%以上。 | O28: =VLOOKUP(D28,Sheet2!F:Q,12,FALSE) -> 改善脱贫户生产生活条件，方便村民日常出行，预期受益人口1888人，脱贫人口43人。
A29: 25 | B29: 南新乡周坊村 | C29: 乡村建设类 | D29: 南新乡周坊村新户型周边道路改造工程项目 | E29: 硬化以下道路：东南主道路长约360米，宽约3米，厚约0.2米等；南部向东与南兴路连接段道路长越440米，宽约2.5米，厚约0.15米等；南部向西与市政旁道路连接段长约360米，宽约2.5米，厚约0.2米等；农庄水塘旁道路长约440米，宽约2.5米，厚约0.2米等。 | F29: 80 | G29: 80 | H29: =F29-G29 -> 0 | I29: 洪财农指〔2024〕90号 | J29: 省级 | K29: 南财农〔2025〕15号 | L29: 2.8 | M29: 已完成 | N29: 通过在“十四五”省定贫困村团结村，新建道路硬化长约1600米，宽约2.5-3.0米不等，厚约0.15-0.2米不等；项目工程完成及时率能达到100%，项目建成后验收合格率能达到100%，道路设计使用年限能达到10年，预期能带动脱贫人口大于或等于5人，脱贫户满意度能达到95%以上。 | O29: 改善“十四五”省定贫困村周坊村道路基础设施条件，完善路网建设，降低农户出行及运输成本，促进农村增产增收，受益脱贫人口5人，直接受益人口约300人，不断提升农村幸福生活满意度。
A30: 26 | B30: 泾口乡东湖村 | C30: 乡村建设类 | D30: 东湖村、北山村联村壮大村集体经济项目变压器安装工程 | E30: 安装500千瓦的变压器一台等 | F30: 25.9 | G30: 25.9 | H30: =F30-G30 -> 0 | I30: 县级专项 | J30: 县级 | K30: 南财农〔2025〕54号 | L30: 5.10 | M30: 已完成 | N30: 通过财政衔接推进乡村振兴项目资金，在东湖村新建厂房一栋，用于农业生产服务，壮大村集体经济，项目完成及时率能达到100%，项目验收合格率能达到100%，设计使用年限能达到10年，成本控制率345万元（含）以内，预期壮大村集体经济收入12-15万元。 | O30: 壮大村集体经济收益、预期为村集体经济带来约12-15万元收益，预期带动2到3名脱贫对象就业务工，每年约增加务工收入1万元。
A31: 27 | B31: 泾口乡东方村 | C31: 乡村建设类 | D31: 泾口乡东方村邹家道路硬化工程 | E31: 道路硬化长约265米、宽5米,C20挡土墙长约81米等 | F31: 65 | G31: 60.3204 | H31: =F31-G31 -> 4.6796 | I31: 县级专项 | J31: 县级 | K31: 南财农〔2025〕54号 | L31: 5.10 | M31: 已完成 | N31: =VLOOKUP(D31,Sheet2!F:O,10,FALSE) -> 通过在“十四五”省定乡村振兴重点帮扶村东方村邹家道路硬化长约265米、宽5米、C20挡土墙长约81米。项目工程完成及时率能达到100%，项目建成后验收合格率能达到100%，项目设计使用年限能达到10年，预期受益人口291人，受益脱贫及监测人口32人，脱贫人口满意度能达到95%以上。 | O31: =VLOOKUP(D31,Sheet2!F:Q,12,FALSE) -> 完善农村道路网建设，改善农村道路状况，促进农村经济发展和方便村民日常出行，预期直接受益人口291人，脱贫及监测人口32人。
A32: 28 | B32: 塘南镇西河村 | C32: 乡村建设类 | D32: 西河村一组农业生产沟渠红石护坡项目 | E32: 西河村农业生产沟渠红石护坡长约850米等。 | F32: 153 | G32: 145.7752 | H32: =F32-G32 -> 7.2248 | I32: 洪财农指〔2024〕107号153万元 | J32: 中央 | K32: 南财农〔2025〕54号 | L32: 5.10 | M32: 已完成 | N32: 通过在“十三五”省定脱贫村西河村一组农业生产沟渠红石护坡长约850米，等。项目工程完成及时率能达到100%，项目建成后验收合格率能达到100%，预期能带动脱贫人口大于等于26人，脱贫户满意度能达到95%以上。 | O32: 主要改善“十三五”定点帮扶村西河村村居环境和改善西河村农业生产灌溉，脱贫人口生产生活条件，预期受益人口西河村村民约1983人，脱贫人口26人，不断提升农村幸福生活满意度。
A33: 29 | B33: 塘南镇富盛村 | C33: 乡村建设类 | D33: 富盛村肖家洲后水沟护坡工程 | E33: 富盛村肖家洲后水沟护坡建设长约892米等 | F33: 112 | G33: 108.6634 | H33: =F33-G33 -> 3.3366 | I33: 县级专项 | J33: 县级 | K33: 南财农〔2025〕54号 | L33: 5.10 | M33: 已完成 | N33: 通过在“十四五”省定重点帮扶村富盛村新建硬化富盛村肖家洲后水沟护坡长约892米等，项目工程完成及时率能达到100%，项目建成后验收合格率能达到100%，道路设计使用年限能达到10年，预期能带动脱贫人口大于等于56人，受益脱贫人口满意度能达到95%以上。 | O33: 改善农户日常生产生活条件、农田水利条件和脱贫人口生产生活条件，预期受益人口富盛村村民约806人，脱贫人口56人。
A34: 30 | B34: 塘南镇田万村 | C34: 乡村建设类 | D34: 田万村二组沟渠护坡工程 | E34: 田万村二组新建沟渠护坡长约803米等 | F34: 72 | G34: 72 | H34: =F34-G34 -> 0 | I34: 县级专项 | J34: 县级 | K34: 南财农〔2025〕54号 | L34: 5.10 | M34: 已完成 | N34: 通过在“十四五”省定重点帮扶村田万村二组沟渠护坡长约803米等；项目工程完成及时率能达到100%，项目建成后验收合格率能达到100%，沟渠设计使用年限能达到10年，预期能带动脱贫人口大于等于10人，受益脱贫人口满意度能达到95%以上。 | O34: 改善田万村二组农业生产条件，方便田万村二组村民农田灌溉。完善农村沟渠建设，改善农村整体生产状况，促进农村经济发展和生产需要，预期直接受益人口约520人，预期能带动脱贫人口大于等于10人。
A35: 31 | B35: 黄马乡白城村 | C35: 乡村建设类 | D35: 黄马乡白城村东牌头上石桥改建项目 | E35: 改建桥长约6米，宽约4米；桥面两端硬化长度约40米，宽约3米等 | F35: 33 | G35: 33 | H35: =F35-G35 -> 0 | I35: 县级专项 | J35: 县级 | K35: 南财农〔2025〕54号 | L35: 5.10 | M35: 已完成 | N35: =VLOOKUP(D35,Sheet2!F:O,10,FALSE) -> 通过在“十三五”市定脱贫村白城村东牌头上石桥改建项目，桥面两端硬化长度40米，宽3米。项目验收合格率达100%，项目完成及时率达100%。受益建档立卡脱贫人口7户16人，脱贫人口满意度达95%。 | O35: =VLOOKUP(D35,Sheet2!F:Q,12,FALSE) -> 项目建成后改善农村生产生活状况，提升农户以及脱贫户的生产条件，促进农村经济发展和方便村民日常出行。预期直接受益面积约1185亩，受益人口约1200人，其中脱贫人口16人。
A36: 32 | B36: 黄马乡罗渡村 | C36: 乡村建设类 | D36: 罗渡村太阳能路灯安装工程 | E36: 罗渡村14个自然村，新增太阳能路灯约100盏等 | F36: 14 | G36: 14 | H36: =F36-G36 -> 0 | I36: 县级专项 | J36: 县级 | K36: 南财农〔2025〕54号 | L36: 5.10 | M36: 已完成 | N36: =VLOOKUP(D36,Sheet2!F:O,10,FALSE) -> 通过在“十三五”省定脱贫村罗渡村安装太阳能路灯，改善村民生产生活条件。项目验收合格率达100%，项目完成及时率达100%,受益建档立卡脱贫人口18户52人，脱贫人口满意度达95%。 | O36: =VLOOKUP(D36,Sheet2!F:Q,12,FALSE) -> 项目建成后改善农村生产生活状况，提升农户以及脱贫户的生产条件，促进农村经济发展和方便村民日常出行。预期直接受益面积约2143亩，受益人口约2410人，其中脱贫人口52人。
A37: 33 | B37: 黄马乡冯家村 | C37: 乡村建设类 | D37: 冯家村朱坊组庵下塘护坡工程 | E37: 护坡长约260m，高约4m，宽平均0.75m。 | F37: 50 | G37: 50 | H37: =F37-G37 -> 0 | I37: 县级专项 | J37: 县级 | K37: 南财农〔2025〕54号 | L37: 5.10 | M37: 已完成 | N37: =VLOOKUP(D37,Sheet2!F:O,10,FALSE) -> 通过在“十四五”省定乡村振兴重点帮扶村冯家村朱坊组庵下塘整治项目，改善村民生产条件。项目验收合格率达100%，项目完成及时率达100%,受益建档立卡脱贫人口4户6人，脱贫人口满意度达95%。 | O37: =VLOOKUP(D37,Sheet2!F:Q,12,FALSE) -> 项目建成后改善农村生产生活状况，提升农户以及脱贫户的生产条件，促进农民保产增收。预期受益建档立卡脱贫人口4户6人.预期直接受益面积约642亩，收益人口约616人，其中脱贫人口6人.
A38: 34 | B38: 南新乡九联村 | C38: 乡村建设类 | D38: 南新乡九联村洲美自然村渠道护坡工程项目 | E38: 洲美自然村渠道护坡长约150米。 | F38: 7.5 | G38: 7.5 | H38: =F38-G38 -> 0 | I38: 洪财农指〔2024〕129号0.34万元、县级专项7.16万元 | J38: 市级0.34万元、县级7.16万元 | K38: 南财农〔2025〕54号 | L38: 5.10 | M38: 已完成 | N38: 在“十三五”省定贫困村九联村洲美自然村修建渠道护坡长220米，改善九联村农业生产基础设施条件，项目工程完成及时率能达到100%，建设后验收合格率能达到100%，道路设计使用年限能达10年，预期直接受益人口约850人，受益脱贫户1户2人，脱贫人口满意度能达95%以上。 | O38: 改善“十三五”省定贫困村九联村农业生产基础设施条件，完善农业灌溉网络，降低农业生产成本和抗旱能力，促进农村增产增收，受益脱贫人口2人，直接受益人口约850人，不断提升农村幸福生活满意度。
A39: 35 | B39: 武阳镇楞上村 | C39: 乡村建设类 | D39: 楞上村农田灌溉线路改造工程 | E39: 在全村范围内进行农田灌溉线路改造约6500米，线缆长度约19500米等。 | F39: 50 | G39: 50 | H39: =F39-G39 -> 0 | I39: 县级专项 | J39: 县级 | K39: 南财农〔2025〕54号 | L39: 5.10 | M39: 已完成 | N39: =VLOOKUP(D39,Sheet2!F:O,10,FALSE) -> 通过在“十四五”省定乡村振兴重点帮扶村楞上村全村范围内实施灌溉线路改造，改造灌溉电线约6500米，改善村民灌溉用电条件，实现灌溉用电安全。项目工程完成及时率能达到100%，项目建成后验收合格率能达100%，电线改造使用年限能达到10年，预期受益面积2424亩，受益人口2500余人，村民满意度能达到95%以上。 | O39: =VLOOKUP(D39,Sheet2!F:Q,12,FALSE) -> 预期受益面积2424亩，受益人口2500余人，改善村民灌溉用电条件，实现灌溉用电安全，村民满意度能达到95%以上。
A40: 36 | B40: 广福镇木山村 | C40: 乡村建设类 | D40: 广福镇木山村朱家垅至上头沟道路硬化工程 | E40: 新建道路硬化长约350米，宽约3米等。 | F40: 25 | G40: 25 | H40: =F40-G40 -> 0 | I40: 县级专项 | J40: 县级 | K40: 南财农〔2025〕54号 | L40: 5.10 | M40: 已完成 | N40: =VLOOKUP(D40,Sheet2!F:O,10,FALSE) -> 通过在“十四五”省定乡村振兴重点帮扶村木山村，新建道路硬化长约350米，宽约3米；项目工程完成及时率能达到100%，项目建成后验收合格率能达到100%，道路设计使用年限能达到10年，预期受益脱贫户20人，脱贫户满意度能达到95%以上。 | O40: =VLOOKUP(D40,Sheet2!F:Q,12,FALSE) -> 主要改善“十四五”省定重点帮扶村木山村生产生活条件，降低农民农作物运输成本，促进农民增产增收，预期直接受益面积400亩，受益人口约600人，其中脱贫户及监测对象20人。
...

Sheet Sheet2
A1: 序号 | B1: 乡（镇） | C1: 村 | D1: 是否省市“十三五”脱贫村 | E1: 是否省市县“十四五”重点帮扶村 | F1: 项目名称 | G1: 项目类别 | H1: 建设内容和规模 | I1: 实施地点 | J1: 实施期限 | K1: 责任单位 | L1: 投资概算（万元） | M1: 资金来源（万元） | N1: 受益对象 | O1: 预期绩效目标 | P1: 绩效指标 | Q1: 利益联结机制 | R1: 备注
A2: 1 | B2: 蒋巷镇 | C2: 三洞村 | D2: 是 | E2: 否 | F2: 2025年三洞村南池子耕道硬化项目 | G2: 乡村建设类 | H2: 道路长度约2100米等 | I2: 三洞村 | J2: 2025年 | K2: 蒋巷镇人民政府 | L2: 165 | M2: 各级财政资金150万；自筹15万 | N2: 三洞村 | O2: 通过在“十三五”脱贫村蒋巷镇三洞村改建硬化道路长约2100米，项目工程完成及时率能达到100%，项目建成后验收合格率能达到100%，道路设计使用年限能达到10年，预期受益人口2800人，受益脱贫及监测人口141人，脱贫户满意度能达到95%以上。 | P2: 1.产出指标-数量指标-新增重点村硬化路里程：≥2.1公里 2.产出指标-质量指标-项目（工程）验收合格率：100% 3.产出指标-时效指标-项目（工程）完成及时率：100% 4.效益指标-社会效益指标-受益建档立卡脱贫人口数：≥141人 5.效益指标-可持续影响指标-工程设计使用年限：≥10年 6.满意度指标-服务对象满意度指标-受益脱贫人口满意度：≥95% | Q2: 改善农户及脱贫监测人口日常生产生活条件、村居环境、农村道路状况和脱贫人口生产生活条件，预期受益人口2800人，受益脱贫及监测人口141人
A3: 2 | B3: 蒋巷镇 | C3: 立新村 | D3: 是 | E3: 否 | F3: 2025年立新村庄店片区机耕道硬化项目 | G3: 乡村建设类 | H3: 硬化道路长度约1600米等 | I3: 立新村 | J3: 2025年 | K3: 蒋巷镇人民政府 | L3: 84 | M3: 各级财政资金80万；自筹4万 | N3: 立新村 | O3: 通过在“十三五”脱贫村蒋巷镇立新村改建硬化道路长约1600米，项目工程完成及时率能达到100%，项目建成后验收合格率能达到100%，道路设计使用年限能达到10年，预期受益人口840人，受益脱贫及监测人口69人。，脱贫户满意度能达到95%以上。 | P3: 1.产出指标-数量指标-新增重点村硬化路里程：≥1.6公里 2.产出指标-质量指标-项目（工程）验收合格率：100% 3.产出指标-时效指标-项目（工程）完成及时率：100% 4.效益指标-社会效益指标-受益建档立卡脱贫人口数：≥69人 5.效益指标-可持续影响指标-工程设计使用年限：≥10年 6.满意度指标-服务对象满意度指标-受益脱贫人口满意度：≥95% | Q3: 改善农户及脱贫监测人口，日常生产生活条件、村居环境、农村道路状况和脱贫人口生产生活条件，预期受益人口840人，受益脱贫及监测人口69人。
A4: 3 | B4: 蒋巷镇 | C4: 立新村 | D4: 是 | E4: 否 | F4: 2025年立新村水塘护坡项目 | G4: 乡村建设类 | H4: 修建护坡600米等 | I4: 立新村 | J4: 2025年 | K4: 蒋巷镇人民政府 | L4: 110 | M4: 各级财政资金100万；自筹10万 | N4: 立新村 | O4: 通过在“十三五”脱贫村蒋巷镇立新村修建护坡600米，项目工程完成及时率能达到100%，项目建成后验收合格率能达到100%，道路设计使用年限能达到10年，预期受益人口840人，受益脱贫及监测人口69人。脱贫户满意度能达到95%以上。 | P4: 1.产出指标-数量指标-新增重点村硬化路里程：≥0.6公里 2.产出指标-质量指标-项目（工程）验收合格率：100% 3.产出指标-时效指标-项目（工程）完成及时率：100% 4.效益指标-社会效益指标-受益建档立卡脱贫人口数：≥69人 5.效益指标-可持续影响指标-工程设计使用年限：≥10年 6.满意度指标-服务对象满意度指标-受益脱贫人口满意度：≥95% | Q4: 改善农户及脱贫监测人口，日常生产生活条件、村居环境、农村道路状况和脱贫人口生产生活条件，预期受益人口840人，受益脱贫及监测人口69人。
A5: 4 | B5: 蒋巷镇 | C5: 柏岗山村 | D5: 否 | E5: 否 | F5: 2025年蒋巷镇联村（柏岗山村、立新村、三洞村、白岸村）产业项目 | G5: 产业类 | H5: 建设一栋钢结构厂房及附属配套设施等 | I5: 柏岗山村 | J5: 2025年 | K5: 蒋巷镇人民政府 | L5: 330 | M5: 各级财政资金300万；自筹30万 | N5: 柏岗山村、立新村、三洞村、白岸村 | O5: 通过在蒋巷镇柏岗山村建设一栋钢结构厂房及附属配套设施，项目工程完成及时率能达到100%，项目建成后验收合格率能达到100%，预期能带动脱贫及监测户34户64人，预计每户年均增加约600元左右，增加村集体经济收入约15万元，带动脱贫户就业6人，人均年增加收入约2000元，脱贫户满意度能达到95%以上。 | P5: 1.产出指标-数量指标-建设钢结构厂房（工程）建成：1栋 2.产出指标-质量指标-项目（工程）验收合格率：100% 3.产出指标-时效指标-项目（工程）完成及时率：100% 4.效益指标-经济效益指标-产业带动村集体增收：≥15万 5.效益指标-社会效益指标-受益建档立卡脱贫人口数：≥64人 7.效益指标-社会效益指标-带动脱贫就业人数：≥2人 8.满意度指标-服务对象满意度指标-受益脱贫人口满意度：≥95% | Q5: 预期每年可增加柏岗山村财政收入约15万元，将拿出部分资金用于给关联的脱贫及监测人口分红，预计每户年均增加约600元左右，带动脱贫户就业2人，人均年增加收入约2000元，其余部分用于项目维护管理和乡村振兴建设等公益性事业。
A6: 5 | B6: 蒋巷镇 | C6: 叶楼村 | D6: 否 | E6: 否 | F6: 2025年叶楼村乡村振兴产业项目 | G6: 产业类 | H6: 建设一栋钢结构厂房及附属配套设施等 | I6: 叶楼村 | J6: 2025年 | K6: 蒋巷镇人民政府 | L6: 330 | M6: 各级财政资金300万；自筹30万 | N6: 叶楼村 | O6: 通过在蒋巷镇叶楼村建设一栋钢结构厂房及附属配套设施，项目工程完成及时率能达到100%，项目建成后验收合格率能达到100%，预期能带动脱贫及监测户36户76人，预计每户年均增加约600元左右，增加村集体经济收入约15万元，带动脱贫户就业2人，人均年增加收入约2000元，脱贫户满意度能达到95%以上。 | P6: 1.产出指标-数量指标-建设钢结构厂房（工程）建成：1栋 2.产出指标-质量指标-项目（工程）验收合格率：100% 3.产出指标-时效指标-项目（工程）完成及时率：100% 4.效益指标-经济效益指标-产业带动村集体增收：≥15万 5.效益指标-社会效益指标-受益建档立卡脱贫人口数：≥76人 7.效益指标-社会效益指标-带动脱贫就业人数：≥2人 8.满意度指标-服务对象满意度指标-受益脱贫人口满意度：≥95% | Q6: 预期每年可增加叶楼村财政收入约15万元，将拿出部分资金用于给关联的脱贫及监测人口分红，预计每户年均增加约600元左右，带动脱贫户就业2人，人均年增加收入约2000元，其余部分用于项目维护管理和乡村振兴建设等公益性事业。
A7: 6 | B7: 蒋巷镇 | C7: 玉丰村 | D7: 否 | E7: 否 | F7: 2025年玉丰村乡村振兴产业项目 | G7: 产业类 | H7: 改建乡村产业农场附属配套设施等 | I7: 玉丰村 | J7: 2025年 | K7: 蒋巷镇人民政府 | L7: 132 | M7: 各级财政资金120万；自筹12万 | N7: 玉丰村 | O7: 通过在蒋巷镇玉丰村改建乡村产业农场附属配套设施，项目工程完成及时率能达到100%，项目建成后验收合格率能达到100%，预期能带动脱贫及监测户10户22人，预计每户年均增加约800元左右，带动脱贫户就业2人，人均年增加收入约2000元，增加村集体经济收入约6.5万元，脱贫户满意度能达到95%。 | P7: 1.产出指标-数量指标-改建主体设施用房（工程）建成：1栋 2.产出指标-质量指标-项目（工程）验收合格率：100% 3.产出指标-时效指标-项目（工程）完成及时率：100% 4.效益指标-经济效益指标-产业带动村集体增收：≥6.5万 5.效益指标-社会效益指标-受益建档立卡脱贫人口数：≥22人 7.效益指标-社会效益指标-带动脱贫就业人数：≥2人 8.满意度指标-服务对象满意度指标-受益脱贫人口满意度：≥95% | Q7: 预期每年可增加叶楼村财政收入约6.5万元，将拿出部分资金用于给关联的脱贫及监测人口分红，预计每户年均增加约600元左右，带动脱贫户就业2人，人均年增加收入约2000元，其余部分用于项目维护管理和乡村振兴建设等公益性事业。
A8: 7 | B8: 蒋巷镇 | C8: 垾上村 | D8: 否 | E8: 否 | F8: 2025年垾上村乡村振兴产业项目 | G8: 产业类 | H8: 建设一栋钢结构厂房及附属配套设施等 | I8: 垾上村 | J8: 2025年 | K8: 蒋巷镇人民政府 | L8: 330 | M8: 各级财政资金300万；自筹30万 | N8: 垾上村 | O8: 通过在蒋巷镇垾上村建设一栋钢结构厂房及附属配套设施，项目工程完成及时率能达到100%，项目建成后验收合格率能达到100%，预期能带动脱贫及监测户23户46人，预计每户年均增加约600元左右，增加村集体经济收入约15.6万元，带动脱贫户就业2人，人均年增加收入约2000元，脱贫户满意度能达到95%以上。 | P8: 1.产出指标-数量指标-建设钢结构厂房（工程）建成：1栋 2.产出指标-质量指标-项目（工程）验收合格率：100% 3.产出指标-时效指标-项目（工程）完成及时率：100% 4.效益指标-经济效益指标-产业带动村集体增收：≥15.6万 5.效益指标-社会效益指标-受益建档立卡脱贫人口数：≥46人 6.效益指标-社会效益指标-带动脱贫就业人数：≥2人 7.满意度指标-服务对象满意度指标-受益脱贫人口满意度：≥95% | Q8: 预期每年可增加垾上村财政收入约15.6万元，将拿出部分资金用于给关联的脱贫及监测人口分红，预计每户年均增加约600元左右，带动脱贫户就业2人，人均年增加收入约2000元，其余部分用于项目维护管理和乡村振兴建设等公益性事业。
A9: 8 | B9: 蒋巷镇 | C9: 蒋巷村 | D9: 否 | E9: 否 | F9: 2025年蒋巷镇蒋巷村山尾村胜利村垾上村发展新型农村集体经济项目 | G9: 产业类 | H9: 建设一栋框架结构厂房及附属配套设施等 | I9: 蒋巷村 | J9: 2025年 | K9: 蒋巷镇人民政府 | L9: 363 | M9: 各级财政资金330万；自筹33万 | N9: 蒋巷村、山尾村、胜利村、垾上村 | O9: 通过在蒋巷镇蒋巷村建设一栋框架结构厂房及附属配套设施，项目工程完成及时率能达到100%，项目建成后验收合格率能达到100%，预期能带动脱贫及监测户22户58人，预计每户年均增加约600元左右，增加村集体经济收入约15万元，带动脱贫户就业2人，人均年增加收入约2000元，脱贫户满意度能达到95%以上。 | P9: 1.产出指标-数量指标-建设框架结构厂房（工程）建成：1栋 2.产出指标-质量指标-项目（工程）验收合格率：100% 3.产出指标-时效指标-项目（工程）完成及时率：100% 4.效益指标-经济效益指标-产业带动村集体增收：≥15万 5.效益指标-社会效益指标-受益建档立卡脱贫人口数：≥58人 7.效益指标-社会效益指标-带动脱贫就业人数：≥2人 8.满意度指标-服务对象满意度指标-受益脱贫人口满意度：≥95% | Q9: 预期每年可增加蒋巷村财政收入约15万元，将拿出部分资金用于给关联的脱贫及监测人口分红，预计每户年均增加约600元左右，带动脱贫户就业2人，人均年增加收入约2000元，其余部分用于项目维护管理和乡村振兴建设等公益性事业。 | R9: 蒋巷镇蒋巷村山尾村胜利村垾上村发展新型农村集体经济项目
A10: 9 | B10: 南新乡 | C10: 九联村 | D10: 是 | E10: 否 | F10: 南新乡九联村道路亮化工程项目 | G10: 乡村建设类 | H10: 堤顶公路至村委会门口道路安装路灯约55盏等，中心公路至千秋堂道路安装路灯约14盏等。 | I10: 九联村 | J10: 2025年 | K10: 南新乡人民政府 | L10: 15 | M10: 各级财政衔接资金14万元、自筹1万元。 | N10: 九联村 | O10: 在“十三五”省定贫困村九联村安装路灯约69盏，改善九联村道路基础设施，项目工程完成及时率能达到100%，建设后验收合格率能达到100%，道路设计使用年限能达10年，预期直接受益人口约850人，受益脱贫户1户2人，脱贫人口满意度能达95%以上。 | P10: 1.产出指标-数量指标-安装路灯数：≥69盏 2.产出指标-质量指标-项目（工程）验收合格率：100% 3.产出指标-时效指标-项目（工程）完成及时率：100% 4.效益指标-社会效益指标-受益建档立卡脱贫人口数：≥2人 5.效益指标-可持续影响指标-工程设计使用年限：≥10年 6.满意度指标-服务对象满意度指标-受益脱贫人口满意度：≥95% | Q10: 改善“十三五”省定贫困村九联村道路基础设施条件，完善路网建设，降低农户出行及运输成本，促进农村增产增收，受益脱贫人口2人，直接受益人口约800人，不断提升农村幸福生活满意度。
A11: 10 | B11: 南新乡 | C11: 团结村 | D11: 是 | E11: 否 | F11: 南新乡团结公路至团结小学道路硬化工程项目 | G11: 乡村建设类 | H11: 改建硬化道路长约160米，宽约3.5米，厚约0.2米的道路等。 | I11: 团结村 | J11: 2025年 | K11: 南新乡人民政府 | L11: 21 | M11: 各级财政衔接资金20万元、自筹1万元。 | N11: 团结村 | O11: 在“十三五”省定贫困村团结村道路硬化长约160米，宽约3.5米，厚约0.2米；项目工程完成及时率能达到100%，项目建成后验收合格率能达到100%，道路设计使用年限能达到10年，预期能带动脱贫人口20人，脱贫户满意度能达到95%以上。 | P11: 1.产出指标-数量指标-新建改建公路里程：≥160米 2.产出指标-质量指标-项目（工程）验收合格率：100% 3.产出指标-时效指标-项目（工程）完成及时率：100% 4.效益指标-社会效益指标-受益建档立卡脱贫人口数：≥20人 5.效益指标-可持续影响指标-工程设计使用年限：≥10年 6.满意度指标-服务对象满意度指标-受益脱贫人口满意度：≥95% | Q11: 改善“十三五”省定贫困村团结村道路基础设施条件，完善路网建设，降低农户出行及运输成本，促进农村增产增收，受益脱贫人口20人，直接受益人口约300人，不断提升农村幸福生活满意度。
A12: 11 | B12: 南新乡 | C12: 团结村 | D12: 是 | E12: 否 | F12: 南新乡团结村产业大棚项目 | G12: 产业类 | H12: 新建产业大棚2座及部分配套设施等。 | I12: 团结村 | J12: 2025年 | K12: 南新乡人民政府 | L12: 32 | M12: 各级财政衔接资金30万元、自筹2万元。 | N12: 团结村 | O12: 通过在“十三五”省定贫困村团结村新建产业大棚2座等；项目工程完成及时率能达到100%，项目建成后验收合格率能达到100%，道路设计使用年限能达到10年，预期能带动脱贫人口20人，脱贫户满意度能达到95%以上。 | P12: 1.产出指标-数量指标-新建大棚数量：≥2座 2.产出指标-质量指标-项目（工程）验收合格率：100% 3.产出指标-时效指标-项目（工程）完成及时率：100% 4.效益指标-社会效益指标-受益建档立卡脱贫人口数：≥20人 5.效益指标-可持续影响指标-工程设计使用年限：≥10年 6.满意度指标-服务对象满意度指标-受益脱贫人口满意度：≥95% | Q12: 改善“十三五”省定贫困村团结村营商环境，壮大村集体经济。带动脱贫户及监测对象增收9户20人，增加村集体经济收入约0.3万元。
A13: 12 | B13: 南新乡 | C13: 周坊村 | D13: 否 | E13: 是 | F13: 南新乡周坊村周坊小学渠道桥至南新中学边道路硬化工程项目 | G13: 乡村建设类 | H13: 改建硬化周坊村小学渠道桥至南新中学边道路，长约1300米，宽约3.5米，厚约0.2米等。 | I13: 周坊村 | J13: 2025年 | K13: 南新乡人民政府 | L13: 150 | M13: 各级财政衔接资金136万元，自筹14万元。 | N13: 周坊村 | O13: 在“十四五”省定乡村振兴重点帮扶村周坊村建设道路长约1300米，宽约3.5米，厚约0.2米改善周坊村道路基础设施，项目工程完成及时率能达到100%，建设后验收合格率能达到100%，道路设计使用年限能达10年，受益脱贫户3户5人，监测对象1户2人，预期直接受益人口2080人，预期受益面积1720亩，脱贫人口满意度能达95%以上。 | P13: 1.产出指标-数量指标-新建改建公路里程：≥1.3公里 2.产出指标-质量指标-项目（工程）验收合格率：100% 3.产出指标-时效指标-项目（工程）完成及时率：100% 4.效益指标-社会效益指标-受益建档立卡脱贫人口数：≥5人 5.效益指标-可持续影响指标-工程设计使用年限：≥10年 6.满意度指标-服务对象满意度指标-受益脱贫人口满意度：≥95% | Q13: 改善“十四五”省定乡村振兴重点帮扶村周坊村道路基础设施条件，完善路网建设，降低农户出行及运输成本，促进农村增产增收，受益脱贫户3户5人，监测对象1户2人，受益人口2080人，受益面积1720亩，不断提升农村幸福生活满意度。
A14: 13 | B14: 南新乡 | C14: 周坊村 | D14: 否 | E14: 是 | F14: 南新乡周坊村四、五组道路硬化工程项目 | G14: 乡村建设类 | H14: 改建硬化大房自然村、八房自然村道路，长约1250米，宽约4米，厚约0.2米等。 | I14: 周坊村 | J14: 2025年 | K14: 南新乡人民政府 | L14: 143 | M14: 各级财政衔接资金130万元、自筹13万元。 | N14: 周坊村 | O14: 在“十四五”省定乡村振兴重点帮扶村周坊村道路硬化长约1250米，宽约4米，厚约0.2米；项目工程完成及时率能达到100%，项目建成后验收合格率能达到100%，道路设计使用年限能达到10年，预期能带动脱贫人口5人，脱贫户满意度能达到95%以上。 | P14: 1.产出指标-数量指标-新增重点村硬化路里程：≥1250米 2.产出指标-质量指标-项目（工程）验收合格率：100% 3.产出指标-时效指标-项目（工程）完成及时率：100% 4.效益指标-社会效益指标-受益脱贫人口数：≥5人 5.效益指标-可持续影响指标-工程设计使用年限：≥10年 6.满意度指标-服务对象满意度指标-群众满意度：≥95% | Q14: 改善“十四五”省定乡村振兴重点帮扶村周坊村道路基础设施条件，完善路网建设，降低农户出行及运输成本，促进农村增产增收，受益脱贫人口5人，直接受益人口约2080人，不断提升农村幸福生活满意度。
A15: 14 | B15: 南新乡 | C15: 周坊村 | D15: 否 | E15: 是 | F15: 南新乡周坊村水厂至南兴路村道硬化工程项目 | G15: 乡村建设类 | H15: 改建硬化水厂至南兴路村道，长约1150米，宽约3米，厚约0.2米等。 | I15: 周坊村 | J15: 2025年 | K15: 南新乡人民政府 | L15: 121 | M15: 各级财政衔接资金110万元、自筹11万元。 | N15: 周坊村 | O15: 在“十四五”省定乡村振兴重点帮扶村周坊村道路硬化长约长约1150米，宽约3米，厚约0.2米等；项目工程完成及时率能达到100%，项目建成后验收合格率能达到100%，道路设计使用年限能达到10年，预期能带动脱贫人口5人，脱贫户满意度能达到95%以上。 | P15: 1.产出指标-数量指标-新增重点村硬化路里程：≥1150米 2.产出指标-质量指标-项目（工程）验收合格率：100% 3.产出指标-时效指标-项目（工程）完成及时率：100% 4.效益指标-社会效益指标-受益脱贫人口数：≥5人 5.效益指标-可持续影响指标-工程设计使用年限：≥10年 6.满意度指标-服务对象满意度指标-群众满意度：≥95% | Q15: 改善“十四五”省定乡村振兴重点帮扶村道路基础设施条件，完善路网建设，降低农户出行及运输成本，促进农村增产增收，受益脱贫人口5人，直接受益人口约2080人，不断提升农村幸福生活满意度。
A16: 15 | B16: 南新乡 | C16: 中徐村 | D16: 否 | E16: 是 | F16: 南新乡中徐村乡村振兴产业基地四期工程项目 | G16: 产业类 | H16: 新建占地约1120平方米的二层钢筋混凝土厂房，总面积约2240平方米，层高3.9米等。 | I16: 中徐村 | J16: 2025年 | K16: 南新乡人民政府 | L16: 374 | M16: 各级财政衔接资金340万元、自筹34万元。 | N16: 中徐村 | O16: 在“十四五”省定乡村振兴重点帮扶村中徐村，利用产业基地内建设用地建设第四期厂房，总面积约2240平方米。项目工程完成及时率能达到100%，项目建成后验收合格率能达到100%。通过厂房招商进驻企业后，预期增加村集体经济约10万元，预期带动周边农户务工5人，预期脱贫户及监测对象11户23人，受益脱贫人口满意度能达到95%以上。 | P16: 1.产出指标-数量指标-新建厂房面积：≥2240平方米 2.产出指标-质量指标-项目（工程）验收合格率：100% 3.产出指标-时效指标-项目（工程）完成及时率：100% 4.效益指标-社会效益指标-受益建档立卡脱贫人口数：≥21人 5.效益指标-可持续影响指标-工程设计使用年限：≥10年 6.满意度指标-服务对象满意度指标-受益脱贫人口满意度：≥95% | Q16: 改善“十四五”省定乡村振兴重点帮扶村中徐村营商环境，壮大村集体经济。带动脱贫户及监测对象增收11户23人，增加村集体经济收入约10万元。
A17: 16 | B17: 南新乡 | C17: 中徐村 | D17: 否 | E17: 是 | F17: 南新乡中徐村二组至东邺村村道主干道路硬化工程项目 | G17: 乡村建设类 | H17: 改建村二组至东邺村道路，全长2100米；其中一段长约1100米，宽约5米；一段长约1000米，宽约4米，厚约0.2米等。 | I17: 中徐村 | J17: 2025年 | K17: 南新乡人民政府 | L17: 308 | M17: 各级财政衔接资金280万元、自筹28万元。 | N17: 中徐村 | O17: 在“十四五”省定乡村振兴重点帮扶村中徐村，建设村内道路长约2100米，宽约4-5米不等，厚约0.2米，配套产业基地交通运输需要。项目工程完成及时率能达到100%，建设后验收合格率能达到100%，道路设计使用年限能达10年，预期受益人口3400余人，受益脱贫户10户21人，监测对象1户2人，脱贫人口满意度能达95%以上。 | P17: 1.产出指标-数量指标-新增重点村硬化路里程：≥2100米 2.产出指标-质量指标-项目（工程）验收合格率：100% 3.产出指标-时效指标-项目（工程）完成及时率：100% 4.效益指标-社会效益指标-受益脱贫人口数：≥21人 5.效益指标-可持续影响指标-工程设计使用年限：≥10年 6.满意度指标-服务对象满意度指标-群众满意度：≥95% | Q17: 改善“十四五”省定乡村振兴重点帮扶村中徐村道路基础设施条件，完善路网建设，降低农户出行及运输成本，促进农村增产增收，受益脱贫人口21人，直接受益人口约3400人，不断提升农村幸福生活满意度。
A18: 17 | B18: 南新乡 | C18: 中徐村 | D18: 否 | E18: 是 | F18: 南新乡中徐村一组至四组道路硬化工程项目 | G18: 乡村建设类 | H18: 改建硬化村一组至村四组道路，全长约900米，宽约4米，厚约0.2米等。 | I18: 中徐村 | J18: 2025年 | K18: 南新乡人民政府 | L18: 127 | M18: 各级财政衔接资金115万元、自筹12万元。 | N18: 中徐村 | O18: 在“十四五”省定乡村振兴重点帮扶村中徐村建设道路长约900米，宽约4米，厚约0.2米。项目工程完成及时率能达到100%，建设后验收合格率能达到100%，道路设计使用年限能达10年，预期受益脱贫户监测对象10户21人，监测对象1户2人，脱贫人口满意度能达95%以上。 | P18: 1.产出指标-数量指标-新增重点村硬化路里程：≥900米 2.产出指标-质量指标-项目（工程）验收合格率：100% 3.产出指标-时效指标-项目（工程）完成及时率：100% 4.效益指标-社会效益指标-受益脱贫人口数：≥21人 5.效益指标-可持续影响指标-工程设计使用年限：≥10年 6.满意度指标-服务对象满意度指标-群众满意度：≥95% | Q18: 改善“十四五”省定乡村振兴重点帮扶村中徐村道路基础设施条件，完善路网建设，降低农户出行及运输成本，促进农村增产增收，受益脱贫人口21人，直接受益人口约3400人，不断提升农村幸福生活满意度。
A19: 18 | B19: 南新乡 | C19: 中徐村 | D19: 否 | E19: 是 | F19: 南新乡中徐村乡村振兴产业基地基础设施排水工程项目 | G19: 乡村建设类 | H19: 新建产业基地雨、污排水处理设施，处理污水量15吨/天，出水水质达到一级A标准等。 | I19: 中徐村 | J19: 2025年 | K19: 南新乡人民政府 | L19: 53 | M19: 各级财政衔接资金50万元、自筹3万元。 | N19: 中徐村 | O19: 在“十四五”省定乡村振兴重点帮扶村中徐村，建设雨、污排水处理设施。项目工程完成及时率能达到100%，建设后验收合格率能达到100%，道路设计使用年限能达10年，预期受益脱贫户监测对象10户21人，监测对象1户2人，脱贫人口满意度能达95%以上。 | P19: 1.产出指标-数量指标-新增雨、污排水处理设施：1座 2.产出指标-质量指标-项目（工程）验收合格率：100% 3.产出指标-时效指标-项目（工程）完成及时率：100% 4.效益指标-社会效益指标-受益脱贫人口数：≥21人 5.效益指标-可持续影响指标-工程设计使用年限：≥10年 6.满意度指标-服务对象满意度指标-群众满意度：≥95% | Q19: 改善“十四五”省定乡村振兴重点帮扶村中徐村排水基础设施条件，完善管道建设，增强农村污水处理能力，受益脱贫人口21人，直接受益人口约3400人，不断提升农村幸福生活满意度。
A20: 19 | B20: 塘南镇 | C20: 田万村 | D20: 否 | E20: 是 | F20: 田万村二组沟渠新建工程 | G20: 乡村建设类 | H20: 田万村二组新建沟渠长约803米等 | I20: 田万村二组 | J20: 2025.02-2025.12 | K20: 塘南镇人民政府 | L20: 48 | M20: 各级财政衔接资金45万元，自筹3万元。 | N20: 田万村二组、四组、五组约1000人 | O20: 通过在“十四五”省定重点帮扶村田万村二组沟渠长约803米等；项目工程完成及时率能达到100%，项目建成后验收合格率能达到100%，沟渠设计使用年限能达到10年，预期能带动脱贫人口大于等于10人，受益脱贫人口满意度能达到95%以上。 | P20: 1.产出指标-数量指标-新建沟渠：≥803米 2.产出指标-质量指标-项目（工程）验收合格率：100% 3.产出指标-时效指标-项目（工程）完成及时率：100% 4.效益指标-社会效益指标-受益建档立卡脱贫人口数：≥10人 5.效益指标-可持续影响指标-工程设计使用年限：≥10年 6.满意度指标-服务对象满意度指标-受益建档立卡脱贫人口满意度：≥95% | Q20: 改善田万村二组农业生产条件，方便田万村二组村民农田灌溉。完善农村沟渠建设，改善农村整体生产状况，促进农村经济发展和生产需要，预期直接受益人口约520人，预期能带动脱贫人口大于等于10人。
A21: 20 | B21: 塘南镇 | C21: 田万村 | D21: 否 | E21: 是 | F21: 田万村四组道路硬化工程 | G21: 乡村建设类 | H21: 田万村四组道路硬化长约629米等 | I21: 田万村四组 | J21: 2025.02-2025.12 | K21: 塘南镇人民政府 | L21: 96 | M21: 各级财政衔接资金91万元、自筹5万元 | N21: 田万村四约320人，脱贫人口26人 | O21: 通过在“十四五”省定重点帮扶村田万村田万村四组道路硬化长约629米等；项目工程完成及时率能达到100%，项目建成后验收合格率能达到100%，道路设计使用年限能达到10年，预期能带动脱贫人口大于等于26人，受益脱贫人口满意度能达到95%以上。 | P21: 1.产出指标-数量指标-新增重点村道路新建：≥629米 2.产出指标-质量指标-项目（工程）验收合格率：100% 3.产出指标-时效指标-项目（工程）完成及时率：100% 4.效益指标-社会效益指标-受益建档立卡脱贫人口数：≥26人 5.效益指标-可持续影响指标-工程设计使用年限：≥10年 6.满意度指标-服务对象满意度指标-受益建档立卡脱贫人口满意度：≥95% | Q21: 改善四组村民生产生活条件，方便田万村四组村民出行。提高生活条件，改善农村的整体状况，促进农村经济发展和生活需要，预期直接受益人口约320人，预期能带动脱贫人口大于等于26人。
... A26: 25 | B26: 塘南镇 | C26: 石岗村 | D26: 是 | E26: 否 | F26: 石岗村石梁王家桥至焦头河排管站道路硬化 | G26: 乡村建设类 | H26: 石岗村道路硬化长约400米等 | I26: 石岗村 | J26: 2025.1-2025.12 | K26: 塘南镇人民政府 | L26: 51 | M26: 各级财政衔接资金48万元，自筹3万元。 | N26: 石岗村 | O26: 通过在“十三五”省定脱贫村石岗村新建硬化道路长约400米等，项目工程完成及时率能达到100%，项目建成后验收合格率能达到100%，道路设计使用年限能达到10年，预期能带动脱贫人口大于等于34人，脱贫户满意度能达到95%以上。 | P26: 1.产出指标-数量指标-新增重点村硬化路里程：≥0.4公里 2.产出指标-质量指标-项目（工程）验收合格率：100% 3.产出指标-时效指标-项目（工程）完成及时率：100% 4.效益指标-社会效益指标-受益建档立卡脱贫人口数：≥34人 5.效益指标-可持续影响指标-工程设计使用年限：≥10年 6.满意度指标-服务对象满意度指标-受益脱贫人口满意度：≥95% | Q26: 改善脱贫户生产生活条件，方便石岗村三组村民出行。完善农村道路网建设，改善农村道路状况，促进农村经济发展和方便村民日常出行，预期直接受益人口约550人，预期能带动脱贫人口大于等于34人。
A27: 26 | B27: 塘南镇 | C27: 篁山村 | D27: 否 | E27: 是 (西河村） | F27: 塘南镇西河村、篁山村联村发展新型农村集体经济项目 | G27: 产业类 | H27: 新建钢结构厂房约2400㎡等 | I27: 篁山村 | J27: 2025.02-2025.11 | K27: 塘南镇人民政府 | L27: 330 | M27: 各级财政衔接资金300万元，自筹30万元。 | N27: 西河村、篁山村 | O27: 通过在篁山村小学新建钢结构厂房，面积约2400㎡等，项目工程完成及时率能达到100%，项目建成后验收合格率能达到100%，预期能带动脱贫及监测劳动力就业5人，增加就业人员每人每年收入1万元，增加村集体经济收入约16.5万元，受益脱贫人口满意度能达到95%以上。 | P27: 1.产出指标-数量指标-新建钢结构厂房：≥2400平方米 2.效益指标-经济效益指标-产业带动村集体增收：≥16.5万 3.产出指标-质量指标-项目（工程）验收合格率：100% 4.产出指标-时效指标-项目（工程）完成及时率：100% 5.效益指标-社会效益指标-受益建档立卡脱贫人口数：≥5人 6.效益指标-可持续影响指标-工程设计使用年限：≥10年 7.满意度指标-服务对象满意度指标-受益建档立卡脱贫人口满意度：≥95% | Q27: 预期每年可增加篁山村集体收入约13.5万元，西河村集体收入3万元，将拿出部分资金用于给脱贫人口分红，预计给10户脱贫户分红每年每户600元，其余部分用于项目维护管理和乡村振兴建设。 | R27: 塘南镇篁山村发展新型农村集体经济项目
A28: 27 | B28: 塘南镇 | C28: 西河村 | D28: 是 | E28: 否 | F28: 西河村一组农业生产沟渠红石护坡 | G28: 乡村建设类 | H28: 西河村农业生产沟渠红石护坡长约850米等。 | I28: 西河村 一组 | J28: 2025.1-12 | K28: 塘南镇人民政府 | L28: 169 | M28: 各级财政衔接资金153万元，自筹16万元。 | N28: 西河村 | O28: 通过在“十三五”省定脱贫村西河村一组农业生产沟渠红石护坡长约850米，等。项目工程完成及时率能达到100%，项目建成后验收合格率能达到100%，预期能带动脱贫人口大于等于26人，脱贫户满意度能达到95%以上。 | P28: 1.产出指标-数量指标-新增农业生产沟渠红石护坡：≥850米 2.产出指标-质量指标-项目（工程）验收合格率：100% 3.产出指标-时效指标-项目（工程）完成及时率：100% 4.效益指标-社会效益指标-受益建档立卡贫困人口数：≥26人 5.效益指标-可持续影响指标-工程设计使用年限：≥10年 6.满意度指标-服务对象满意度指标-受益脱贫人口满意度：≥95% | Q28: 主要改善“十三五”定点帮扶村西河村村居环境和改善西河村农业生产灌溉，脱贫人口生产生活条件，预期受益人口西河村村民约1983人，脱贫人口26人，不断提升农村幸福生活满意度。
A29: 28 | B29: 塘南镇 | C29: 新光村 | D29: 否 | E29: 是 | F29: 新光村新建中心沟渠工程 | G29: 乡村建设类 | H29: 新光村新建中心沟渠约1203米等 | I29: 新光村一组 | J29: 2025.01-2025.12 | K29: 塘南镇人民政府 | L29: 94 | M29: 各级财政衔接资金89万元，自筹5万元。 | N29: 新光村一组村民，脱贫人口45人 | O29: 通过在新光村一组新建中心沟渠约1203米等，项目工程完成及时率能达到100%，项目建成后验收合格率能达到100%，预期受益建档立卡脱贫人口数45人，受益脱贫人口满意度能达到95%以上。 | P29: 1.产出指标-数量指标-新增新光村一组中心沟渠数量：≥1203米 2.产出指标-质量指标-项目（工程）验收合格率：100% 3.产出指标-时效指标-项目（工程）完成及时率：100% 4.效益指标-社会效益指标-受益建档立卡脱贫人口数：≥45人 5.效益指标-可持续影响指标-工程设计使用年限：≥10年 6.满意度指标-服务对象满意度指标-受益建档立卡脱贫人口满意度：≥95% | Q29: 改善脱贫户生产生活条件，方便新光村一组农业生产。完善农村农业生产，预期直接受益人口约320人，预期能带动脱贫人口大于等于45人。
A30: 29 | B30: 塘南镇 | C30: 西河村、西联村 | D30: 是 (西河村） | E30: 否 | F30: 西河村、西联村发展新型农村集体经济项目 | G30: 产业类 | H30: 新建钢结构厂房约2400㎡等 | I30: 西联村 | J30: 2025.02-2025.12 | K30: 塘南镇人民政府 | L30: 330 | M30: 各级财政衔接资金300万元，自筹30万元。 | N30: 西河村、西联村 | O30: 通过在西联村小学新建钢结构厂房，面积约2400㎡等，项目工程完成及时率能达到100%，项目建成后验收合格率能达到100%，预期能带动脱贫及监测劳动力就业6人，增加就业人员每人每年收入1.2万元，增加村集体经济收入约16.5万元，受益脱贫人口满意度能达到95%以上。 | P30: 1.产出指标-数量指标-新建钢结构厂房：≥2400平方米 2.效益指标-经济效益指标-产业带动村集体增收：≥16.5万 3.产出指标-质量指标-项目（工程）验收合格率：100% 4.产出指标-时效指标-项目（工程）完成及时率：100% 5.效益指标-社会效益指标-受益建档立卡脱贫人口数：≥6人 6.效益指标-可持续影响指标-工程设计使用年限：≥10年 7.满意度指标-服务对象满意度指标-受益建档立卡脱贫人口满意度：≥95% | Q30: 预期每年可增加西联村集体收入约13.5万元，西河村集体收入3万元，将拿出部分资金用于给脱贫人口分红，预计给10户脱贫户分红每年每户600元，其余部分用于项目维护管理和乡村振兴建设。 | R30: 塘南镇西联村发展新型农村集体经济项目
A31: 30 | B31: 幽兰镇 | C31: 渡头村 | D31: 否 | E31: 否 | F31: 幽兰镇联村（渡头、罗舍、南山）产业帮扶项目 | G31: 产业类 | H31: 新建1栋产业帮扶厂房及相关配套设施等 | I31: 渡头村 | J31: 2025年 | K31: 幽兰镇人民政府 | L31: 390 | M31: 各级财政衔接资金350万元，自筹40万元 | N31: 渡头村、罗舍村、南山村 | O31: 通过在渡头村新建1栋产业帮扶厂房（约2000平）及相关配套设施，项目工程完成及时率能达到100%，项目建成后验收合格率能达到100%，预期能带动脱贫及监测人口24人，带动农户务工30人，增加村集体经济收入约14万元，脱贫户满意度能达到95%以上。 | P31: 1.产出指标-数量指标-新建产业帮扶厂房：≥1栋 2.产出指标-质量指标-项目（工程）验收合格率：100% 3.产出指标-时效指标-项目（工程）完成及时率：100% 4.产出指标-成本指标-项目（工程）成本：≤350万元 5.效益指标-社会效益指标-受益建档立卡贫困人口数：≥24人 6.效益指标-可持续影响指标-工程设计使用年限：≥50年 7.满意度指标-服务对象满意度指标-受益贫困人口满意度：≥95% | Q31: 带动农户务工增收约30人，受益脱贫户约24人，增加村集体收益约14万元。
A32: 31 | B32: 幽兰镇 | C32: 园艺场 | D32: 是 | E32: 否 | F32: 幽兰镇园艺场抗旱抽水线路新装工程 | G32: 乡村建设类 | H32: 邓家、南湖、朱家、熊家、陶赵、北涂、南涂、黄家等8村组果树抗旱抽水改造 | I32: 园艺场 | J32: 2025年 | K32: 幽兰镇人民政府 | L32: 69 | M32: 各级财政衔接资金65万元，自筹4万元 | N32: 园艺场 | O32: 通过在“十三五”省级脱贫村园艺场邓家、南湖、朱家、熊家、陶赵、北涂、南涂、黄家等8村组共计10公里果树抗旱抽水改造。项目工程完成及时率能达到100%，项目建成后验收合格率能达100%，预期益面积1907亩、受益人口1576人，村民满意度能达到95%以上。 | P32: 1.产出指标-数量指标-农村电网改造线路长度：≥10公里 2.产出指标-质量指标-项目（工程）验收合格率：100% 3.产出指标-时效指标-项目（工程）完成及时率：100% 4.产出指标-成本指标-项目（工程）成本：≤65万元 5.效益指标-社会效益指标-受益建档立卡贫困人口数：≥56人 6.效益指标-可持续影响指标-工程设计使用年限：≥10年 7.满意度指标-服务对象满意度指标-受益贫困人口满意度：≥95% | Q32: 改善园艺场基础设施条件，确保农户生产安全，受益脱贫户24户、监测户2户，受益面积1907亩，受益人口1576人。
A33: 32 | B33: 幽兰镇 | C33: 园艺场 | D33: 是 | E33: 否 | F33: 幽兰镇园艺场产业帮扶项目 | G33: 产业类 | H33: 新建1栋产业帮扶厂房及相关配套设施等 | I33: 园艺场 | J33: 2025年 | K33: 幽兰镇人民政府 | L33: 330 | M33: 各级财政衔接资金300万元、自筹30万元 | N33: 园艺场 | O33: 通过在“十三五”省级脱贫村园艺场新建1栋产业帮扶厂房（约2000平）及相关配套设施，项目工程完成及时率能达到100%，项目建成后验收合格率能达到100%，预期能带动脱贫及监测人口24人，带动农户务工30人，增加村集体经济收入约14万元，脱贫户满意度能达到95%以上。 | P33: 1.产出指标-数量指标-新建产业帮扶厂房：≥1栋 2.产出指标-质量指标-项目（工程）验收合格率：100% 3.产出指标-时效指标-项目（工程）完成及时率：100% 4.产出指标-成本指标-项目（工程）成本：≤300万元 5.效益指标-社会效益指标-受益建档立卡贫困人口数：≥24人 6.效益指标-可持续影响指标-工程设计使用年限：≥50年 7.满意度指标-服务对象满意度指标-受益贫困人口满意度：≥95% | Q33: 带动农户务工增收约30人，受益脱贫户约10人，增加村集体收益约14万元。
A34: 33 | B34: 幽兰镇 | C34: 南山村 | D34: 是 | E34: 否 | F34: 幽兰镇南山村产业帮扶项目 | G34: 产业类 | H34: 新建1栋产业帮扶厂房及相关配套设施等 | I34: 南山村 | J34: 2025年 | K34: 幽兰镇人民政府 | L34: 390 | M34: 各级财政衔接资金350万元、自筹40万元 | N34: 南山村 | O34: 通过在“十三五”市级脱贫南山村新建1栋产业帮扶厂房（约1500平），新建315kv变压器一座及配套高低压电力线路及室外排水等配套设施，项目工程完成及时率能达到100%，项目建成后验收合格率能达到100%，预期能带动脱贫及监测人口10人，带动农户务工10人，增加村集体经济收入约8-10万元，脱贫户满意度能达到95%以上。 | P34: 1.产出指标-数量指标-新建产业帮扶厂房：≥1栋 2.产出指标-质量指标-项目（工程）验收合格率：100% 3.产出指标-时效指标-项目（工程）完成及时率：100% 4.产出指标-成本指标-项目（工程）成本：≤350万元 5.效益指标-社会效益指标-受益建档立卡贫困人口数：≥10人 6.效益指标-可持续影响指标-工程设计使用年限：≥50年 7.满意度指标-服务对象满意度指标-受益贫困人口满意度：≥95% | Q34: 带动农户务工增收约10人，受益脱贫户约10人，增加村集体收益约8-10万元。
A35: 34 | B35: 幽兰镇 | C35: 黄坊村 | D35: 否 | E35: 是 | F35: 幽兰镇黄坊村产业帮扶项目 | G35: 产业类 | H35: 新建1栋产业帮扶厂房及相关配套设施等 | I35: 黄坊村 | J35: 2025年 | K35: 幽兰镇人民政府 | L35: 330 | M35: 各级财政衔接资金300万元、自筹30万元 | N35: 黄坊村 | O35: 通过在“十四五”省级重点帮扶村黄坊村新建1栋产业帮扶厂房（约1500平）及相关配套设施，项目工程完成及时率能达到100%，项目建成后验收合格率能达到100%，预期能带动脱贫及监测人口24人，带动农户务工30人，增加村集体经济收入约11万元，脱贫户满意度能达到95%以上。 | P35: 1.产出指标-数量指标-新建产业帮扶厂房：≥1栋 2.产出指标-质量指标-项目（工程）验收合格率：100% 3.产出指标-时效指标-项目（工程）完成及时率：100% 4.产出指标-成本指标-项目（工程）成本：≤300万元 5.效益指标-社会效益指标-受益建档立卡贫困人口数：≥24人 6.效益指标-可持续影响指标-工程设计使用年限：≥50年 7.满意度指标-服务对象满意度指标-受益贫困人口满意度：≥95% | Q35: 带动农户务工增收约30人，受益脱贫户约24人，增加村集体收益约11万元。
A36: 35 | B36: 幽兰镇 | C36: 马游村 | D36: 否 | E36: 否 | F36: 幽兰镇马游村发展新型农村集体经济项目 | G36: 产业类 | H36: 新建1栋产业帮扶厂房及相关配套设施等 | I36: 马游村 | J36: 2025年 | K36: 幽兰镇人民政府 | L36: 220 | M36: 各级财政衔接资金200万元、自筹20万元 | N36: 马游村 | O36: 通过在马游村新建1栋产业帮扶厂房（约1000平）及相关配套设施，项目工程完成及时率能达到100%，项目建成后验收合格率能达到100%，预期能带动脱贫及监测人口24人，带动农户务工30人，增加村集体经济收入约12万元，脱贫户满意度能达到95%以上。 | P36: 1.产出指标-数量指标-新建产业帮扶厂房：≥1栋 2.产出指标-质量指标-项目（工程）验收合格率：100% 3.产出指标-时效指标-项目（工程）完成及时率：100% 4.产出指标-成本指标-项目（工程）成本：≤200万元 5.效益指标-社会效益指标-受益建档立卡贫困人口数：≥24人 6.效益指标-可持续影响指标-工程设计使用年限：≥50年 7.满意度指标-服务对象满意度指标-受益贫困人口满意度：≥95% | Q36: 带动农户务工增收约30人，受益脱贫户约24人，增加村集体收益约12万元。 | R36: 幽兰镇马游村发展新型农村集体经济项目
A37: 36 | B37: 幽兰镇 | C37: 罗舍村 | D37: 是 | E37: 否 | F37: 幽兰镇罗舍村产业帮扶项目 | G37: 产业类 | H37: 新建1栋产业帮扶厂房及相关配套设施等 | I37: 罗舍村 | J37: 2025年 | K37: 幽兰镇人民政府 | L37: 220 | M37: 各级财政衔接资金200万元、自筹20万元 | N37: 罗舍村 | O37: 通过在“十三五”省级脱贫罗舍村新建1栋产业帮扶厂房（约1000平）及配套设施等，项目工程完成及时率能达到100%，项目建成后验收合格率能达到100%，预期能带动脱贫及监测人口10人，带动农户务工10人，增加村集体经济收入约13万元，脱贫户满意度能达到95%以上。 | P37: 1.产出指标-数量指标-新建产业帮扶厂房：≥1栋 2.产出指标-质量指标-项目（工程）验收合格率：100% 3.产出指标-时效指标-项目（工程）完成及时率：100% 4.产出指标-成本指标-项目（工程）成本：≤200万元 5.效益指标-社会效益指标-受益建档立卡贫困人口数：≥10人 6.效益指标-可持续影响指标-工程设计使用年限：≥50年 7.满意度指标-服务对象满意度指标-受益贫困人口满意度：≥95% | Q37: 带动农户务工增收约10人，受益脱贫户约10人，增加村集体收益约13万元。
A38: 37 | B38: 幽兰镇 | C38: 涂村村 | D38: 否 | E38: 是 | F38: 姚家自然村至 村委会道路建设工程 | G38: 乡村建设类 | H38: 村道新建 长度约600米 （其中硬化面长度约150米); 地基土方：约3000方；涉水塘剪力墙350米； | I38: 涂村村 姚家、涂家自然村 自然村 | J38: 2025年 | K38: 幽兰镇人民政府 | L38: 63 | M38: 各级财政 衔接资金 60万元，自筹3万。 | N38: 涂村村 | O38: 通过在“十四五”市级重点帮扶村 在涂村姚家小组范围内进行道路建设600米（硬化长约100米），宽约4米。项目工程完成及时率能达到100%，项目建成后验收合格率能达100%，预期受益面积500余亩、受益人口1100余人，村民满意度能达到95%以上。 | P38: 1.产出指标-数量指标-农村道路新建线路长度：≥0.6公里 2.产出指标-质量指标-项目（工程）验收合格率：100% 3.产出指标-时效指标-项目（工程）完成及时率：100% 4.产出指标-成本指标-项目（工程）成本：≤60万元 5.效益指标-社会效益指标-受益建档立卡贫困人口数：≥56人 6.效益指标-可持续影响指标-工程设计使用年限：≥10年 7.满意度指标-服务对象满意度指标-受益贫困人口满意度：≥95% | Q38: 改善涂村基础设施条件，确保农户生产安全，受益脱贫户约30人，受益面积500余亩，受益人口1100余人。
A39: 38 | B39: 幽兰镇 | C39: 涂村村 | D39: 否 | E39: 是 | F39: 幽兰镇涂村产业帮扶项目 | G39: 产业类 | H39: 新建1栋产业帮扶厂房及相关配套设施等 | I39: 涂村村 | J39: 2025年 | K39: 幽兰镇人民政府 | L39: 330 | M39: 各级财政衔接资金300万元、自筹30万元 | N39: 涂村村 | O39: 通过在“十四五”市级重点帮扶村涂村村新建1栋产业帮扶厂房（约1700平）及配套设施等，项目工程完成及时率能达到100%，项目建成后验收合格率能达到100%，预期能带动脱贫及监测人口10人，带动农户务工10人，增加村集体经济收入约8-10万元，脱贫户满意度能达到95%以上。 | P39: 1.产出指标-数量指标-新建产业帮扶厂房：≥1栋 2.产出指标-质量指标-项目（工程）验收合格率：100% 3.产出指标-时效指标-项目（工程）完成及时率：100% 4.产出指标-成本指标-项目（工程）成本：≤300万元 5.效益指标-社会效益指标-受益建档立卡贫困人口数：≥10人 6.效益指标-可持续影响指标-工程设计使用年限：≥50年 7.满意度指标-服务对象满意度指标-受益贫困人口满意度：≥95% | Q39: 带动农户务工增收约10人，受益脱贫户约10人，增加村集体收益约8-10万元。
A40: 39 | B40: 幽兰镇 | C40: 枫林村 | D40: 否 | E40: 否 | F40: 幽兰镇枫林村产业帮扶项目 | G40: 产业类 | H40: 新建1栋产业帮扶厂房及相关配套设施等 | I40: 枫林村 | J40: 2025年 | K40: 幽兰镇人民政府 | L40: 340 | M40: 各级财政衔接资金300万元、自筹30万元 | N40: 枫林村 | O40: 通过在枫林村新建1栋产业帮扶厂房（约1800平）及相关配套设施，项目工程完成及时率能达到100%，项目建成后验收合格率能达到100%，预期能带动脱贫及监测人口24人，带动农户务工30人，增加村集体经济收入约11万元，脱贫户满意度能达到95%以上。 | P40: 1.产出指标-数量指标-新建产业帮扶厂房：≥1栋 2.产出指标-质量指标-项目（工程）验收合格率：100% 3.产出指标-时效指标-项目（工程）完成及时率：100% 4.产出指标-成本指标-项目（工程）成本：≤300万元 5.效益指标-社会效益指标-受益建档立卡贫困人口数：≥24人 6.效益指标-可持续影响指标-工程设计使用年限：≥50年 7.满意度指标-服务对象满意度指标-受益贫困人口满意度：≥95% | Q40: 带动农户务工增收约30人，受益脱贫户约24人，增加村集体收益约11万元。
A41: 40 | B41: 幽兰镇 | C41: 流芳村 | D41: 否 | E41: 否 | F41: 幽兰镇流芳村产业帮扶项目 | G41: 产业类 | H41: 新建1栋产业帮扶厂房及相关配套设施等 | I41: 流芳村 | J41: 2025年 | K41: 幽兰镇人民政府 | L41: 330 | M41: 各级财政衔接资金300万元、自筹30万元 | N41: 流芳村 | O41: 通过在流芳村新建1栋产业帮扶厂房（约1800平）及相关配套设施，项目工程完成及时率能达到100%，项目建成后验收合格率能达到100%，预期能带动脱贫及监测人口24人，带动农户务工30人，增加村集体经济收入约11万元，脱贫户满意度能达到95%以上。 | P41: 1.产出指标-数量指标-新建产业帮扶厂房：≥1栋 2.产出指标-质量指标-项目（工程）验收合格率：100% 3.产出指标-时效指标-项目（工程）完成及时率：100% 4.产出指标-成本指标-项目（工程）成本：≤300万元 5.效益指标-社会效益指标-受益建档立卡贫困人口数：≥24人 6.效益指标-可持续影响指标-工程设计使用年限：≥50年 7.满意度指标-服务对象满意度指标-受益贫困人口满意度：≥95% | Q41: 带动农户务工增收约30人，受益脱贫户约24人，增加村集体收益约11万元。
A42: 41 | B42: 泾口乡 | C42: 大浦村 | D42: 否 | E42: 是 | F42: 泾口乡大浦村昌万公路至舍里道路硬化工程 | G42: 乡村建设类 | H42: 道路硬化长约1130米、宽4.5米等 | I42: 大浦村 | J42: 2025年 | K42: 泾口乡人民政府 | L42: 253 | M42: 各级财政衔接资金230万，自筹23万 | N42: 大浦村 | O42: 通过在“十四五”省定重点帮扶村大浦村新建硬化道路长约1130米，宽约4.5米，项目工程完成及时率能达到100%，项目建成后验收合格率能达到100%，道路设计使用年限能达到10年，预期能带动脱贫人口大于等于93人，脱贫户满意度能达到95%以上。 | P42: 1.产出指标-数量指标-新建改建公路里程：≥1.13公里 2.产出指标-质量指标-项目（工程）验收合格率：100% 3.产出指标-时效指标-项目（工程）完成及时率：100% 4.效益指标-社会效益指标-受益建档立卡脱贫人口数：≥93人 5.效益指标-可持续影响指标-工程设计使用年限：≥10年 6.满意度指标-服务对象满意度指标-受益脱贫人口满意度：≥95% | Q42: 改善农户日常生产生活条件、村居环境、农村道路状况和脱贫人口生产生活条件，预期受益人口2100人，脱贫人口93人。
A43: 42 | B43: 泾口乡 | C43: 大浦村 | D43: 否 | E43: 是 | F43: 泾口乡大浦邓家中心道路硬化工程 | G43: 乡村建设类 | H43: 道路硬化长约1000米、宽5米等 | I43: 大浦村 | J43: 2025年 | K43: 泾口乡人民政府 | L43: 231 | M43: 各级财政衔接资金210万，自筹21万 | N43: 大浦村 | O43: 通过在“十四五”省定重点帮扶村大浦村新建硬化道路长约1000米，宽约5米，项目工程完成及时率能达到100%，项目建成后验收合格率能达到100%，道路设计使用年限能达到10年，预期能带动脱贫人口大于等于93人，脱贫户满意度能达到95%以上。 | P43: 1.产出指标-数量指标-新建改建公路里程：≥1公里 2.产出指标-质量指标-项目（工程）验收合格率：100% 3.产出指标-时效指标-项目（工程）完成及时率：100% 4.效益指标-社会效益指标-受益建档立卡脱贫人口数：≥93人 5.效益指标-可持续影响指标-工程设计使用年限：≥10年 6.满意度指标-服务对象满意度指标-受益脱贫人口满意度：≥95% | Q43: 改善农户日常生产生活条件、村居环境、农村道路状况和脱贫人口生产生活条件，预期受益人口2100人，脱贫人口93人。
A44: 43 | B44: 泾口乡 | C44: 大浦村 | D44: 否 | E44: 是 | F44: 泾口乡大浦、东方联村产业帮扶基地配套设施工程 | G44: 产业类 | H44: 安装谷王5HXG-22烘干机9台及配套附属设施等 | I44: 大浦村 | J44: 2025年 | K44: 泾口乡人民政府 | L44: 242 | M44: 各级财政衔接资金220，自筹22万 | N44: 大浦村、东方村 | O44: 通过在“十四五”省定重点帮扶村泾口乡大浦、东方联村产业帮扶基地安装谷王5HXG-22烘干机9台及配套附属设施，项目完成及时率能达到100%，项目建成后验收合格率能达到100%，设计使用年限能达到10年，预期能带动脱贫及监测户32户，预计每户年均增加约800元左右，增加村集体经济收入约16万元，脱贫户满意度能达到95%以上。 | P44: 1.产出指标-数量指标-安装烘干机：9台 2.产出指标-质量指标-项目（工程）验收合格率：100% 3.产出指标-时效指标-项目（工程）完成及时率：100% 4.效益指标-经济效益指标-产业带动村集体增收：≥16万 5.效益指标-社会效益指标-受益建档立卡脱贫人口数：≥93人 6.满意度指标-服务对象满意度指标-受益脱贫人口满意度：≥95% | Q44: 预期每年可增加大浦村村集体经济收入约16万元，将拿出部分资金用于给关联的脱贫及监测人口分红，预计每户年均增加约800元左右，其余部分用于项目维护管理和公益性乡村振兴建设类。预期受益人口2100人，脱贫人口93人。
...
